BEGIN:VCALENDAR
VERSION:2.0
PRODID:-//urwahl3000//gruene-ml.de//DE
CALSCALE:GREGORIAN
BEGIN:VEVENT
DTSTART:20180623T120000
DTEND:20180623T120000
LOCATION:Bavariastatue München
DTSTAMP:20180623T120000
SUMMARY:Aktion: Stopp Kohle – Deine Hände für den Klimaschutz!
URL;VALUE=URI:https://gruene-ml.de/termin/aktion-stopp-kohle-deine-haende-fuer-den-klimaschutz/
DESCRIPTION:Das Umweltinstitut München und weitere Umweltorganisationen rufen dazu auf, am Sonntag ein Zeichen gegen Kohle zu setzen. Gemeinsamen wird für ein Ende des Kohleabbaus ab 12 Uhr an der Bavaria demonstriert.

Nach der Protestaktion besteht die Möglichkeit in einem entspannten Rahmen über Klimaschutz und den notwendigen Umbau unserer Gesellschaft diskutieren.

Weitere Informationen gibt es <a href="https://www.facebook.com/events/245281442692430/">hier</a>.
UID:20180623T120000-20180623T120000-20180623T120000
END:VEVENT
END:VCALENDAR