BEGIN:VCALENDAR
VERSION:2.0
PRODID:-//urwahl3000//gruene-ml.de//DE
CALSCALE:GREGORIAN
BEGIN:VEVENT
DTSTART:20160709T140000
DTEND:20160709T140000
LOCATION:Maibaumwiese Pullach
DTSTAMP:20160709T140000
SUMMARY:Boule-Picknick in Pullach
URL;VALUE=URI:https://gruene-ml.de/termin/boule-picknick-in-pullach/
DESCRIPTION:Sie sind herzlich eingeladen zum Boule-Picknick, dem GRÜNEN Sommerfest – mit der Gelegenheit zum Boule spielen.

Zur Stärkung wird es Gegrilltes geben, sowie Salate und Kuchen.
Mit Bier, Wein und alkoholfreien Getränken (auch Kaffee) können Sie den Durst löschen.

Boulekugeln sind vorhanden für diejenigen, die Boule spielen möchten, aber keine eigenen Kugeln haben.
Wir freuen uns auf Ihren Besuch
UID:20160709T140000-20160709T140000-20160709T140000
END:VEVENT
END:VCALENDAR