BEGIN:VCALENDAR
VERSION:2.0
PRODID:-//urwahl3000//gruene-ml.de//DE
CALSCALE:GREGORIAN
BEGIN:VEVENT
DTSTART:20160416T110000
DTEND:20160416T110000
LOCATION:Ausbildungshotel St. Theresia\, Hanebergstr. 8 München
DTSTAMP:20160416T110000
SUMMARY:Kleiner Parteitag
URL;VALUE=URI:https://gruene-ml.de/termin/kleiner-parteitag/
DESCRIPTION:<h4>Erstes Treffen des kleinen Parteitags</h4>
Zusätzlich zur Landesversammlung, oft auch als Landesdelegiertenkonferenz (LDK) bezeichnet, findet jährlich ein Kleiner Parteitag statt. Jeder Kreisverband entsendet bis 125 Mitglieder eine/n Delegierten, für jede weitere angefangenen 150 Mitglieder eine/n weitere/n Delegierte/n. Der nächste Kleine Parteitag findet am Samstag, den 16. April, in München statt und ist eintägig.
<div>Unser KV ist mit drei Delegierten vertreten, man kann aber auch als Gast vorbeischauen.</div>
Ihm werden ca. 130 Delegierte angehören. Alle weiteren Infos finden sich auf einer <a href="http://gruene-bayern.de/kleinerparteitag/">eigenen Seite</a> zum Kleinen Parteitag.
UID:20160416T110000-20160416T110000-20160416T110000
END:VEVENT
END:VCALENDAR