BEGIN:VCALENDAR
VERSION:2.0
PRODID:-//urwahl3000//gruene-ml.de//DE
CALSCALE:GREGORIAN
BEGIN:VEVENT
DTSTART:20160706T200000
DTEND:20160706T200000
LOCATION:Im EineWeltHaus\, Schwanthalerstraße 80 /Rgb.\, Raum 211/212 München
DTSTAMP:20160706T200000
SUMMARY:Kreisversammlung: Delegiertenwahlen
URL;VALUE=URI:https://gruene-ml.de/termin/kreisversammlung-im-juli/
DESCRIPTION:<strong>Wahl von Delegierten für die Bezirksversammlung, Landesdelegiertenkonferenzen und Bundesdelegiertenkonferenz</strong>

Parteitage heißen bei uns Grünen meist „Delegiertenkonferenzen“. Sie sind das höchste beschlussfassende Gremium auf Bezirks-, Landes- oder Bundesebene. Um die wichtigsten inhaltlichen Positionen abzustimmen, wird auf diesen Versammlungen mitunter heftig diskutiert und über Grundlegende Richtungsentscheidungen beraten. Die Anzahl der Delegierten ist in der Satzung der jeweiligen Ebene festgelegt.

<strong>Tagesordnung:</strong>
TOP 1: Wahl von 10 Delegierten für die Bezirksversammlung am 8. Oktober in München
TOP 2: Wahl von 11 Delegierten für die Landesdelegiertenkonferenz am 15./16. Oktober in Schweinfurt
TOP 3: Wahl von 4 Delegierten für die Bundesdelegiertenkonferenz vom 11.-13. November in Münster
TOP 4: Wahl von 11 Delegierten zur Aufstellungsversammlung für den Bundestag am 09. Dezember in Augsburg
TOP 5: Berichte aus den Ortsverbänden, Gemeinderäten, dem Kreistag, dem Landtag und dem Landesausschuss
TOP 6: Sonstiges

<em> </em>
UID:20160706T200000-20160706T200000-20160706T200000
END:VEVENT
END:VCALENDAR