BEGIN:VCALENDAR
VERSION:2.0
PRODID:-//urwahl3000//gruene-ml.de//DE
CALSCALE:GREGORIAN
BEGIN:VEVENT
DTSTART:20250604T193000
DTEND:20250604T193000
LOCATION:Münchner Aids-Hilfe e.V. Konz.raum 0.1 Lindwurmstr. 71 80337 München
DTSTAMP:20250604T193000
SUMMARY:Kreisversammlung im Juni – Frauen in der Kommunalpolitik
URL;VALUE=URI:https://gruene-ml.de/termin/kreisversammlung-im-juni-7/
DESCRIPTION:Den Abend unserer Kreisversammlung am 4. Juni widmen wir diesmal dem Thema „Frauen in der Kommunalpolitik" und freuen uns, zwei besonders engagierte und inspirierende Gäste begrüßen zu dürfen:
<ul>
 	<li>Sabine Appelhagen, Präsidentin von fidip e.V. – Frauen in die Parlamente</li>
 	<li>Helga Stieglmeier, bis 2024 frauenpolitische Sprecherin der Grünen Bayern und weiterhin aktive Kreisrätin in Erding.</li>
</ul>
Gemeinsam wollen wir mit ihnen über Chancen, Herausforderungen und Strategien sprechen, wie wir mehr Frauen für kommunalpolitisches Engagement gewinnen können.

♦ TOP 1 Aktuelle Viertelstunde
♦ TOP 2 Vorstellung unserer Gäste durch Stephanie Moser uns Cornelia Huber-Danzer
♦ TOP 3 Rede und Austausch mit Sabine Appelhagen, Präsidentin von fidip e.V.
♦ TOP 4 Rede und Austausch mit Helga Stieglmeier
♦ TOP 5 Vernetzung, Austausch und Berichte
♦ TOP 6 Sonstiges

Im Anschluss ist noch Zeit für „Verschiedenes“.  Wir freuen uns auf die Teilnahme <strong>vieler Frauen sowie auch Männer</strong> und einen inspirierenden Abend mit spannenden Impulsen und offenen Gesprächen!

<strong>Die Veranstaltung wird diesmal in den Räumlichkeiten der Münchner Aids-Hilfe stattfinden</strong> oder <a href="https://us06web.zoom.us/j/97996056270?pwd=NW9xekFSdGo1bWJjTlIrMzBIOG5wQT09" target="_blank" rel="noopener">online per Zoom (Link)</a>.
UID:20250604T193000-20250604T193000-20250604T193000
END:VEVENT
END:VCALENDAR