BEGIN:VCALENDAR
VERSION:2.0
PRODID:-//urwahl3000//gruene-ml.de//DE
CALSCALE:GREGORIAN
BEGIN:VEVENT
DTSTART:20260506T193000
DTEND:20260506T213000
LOCATION:Landesgeschäftsstelle\, Franziskanerstraße 14 81669 München
DTSTAMP:20260506T193000
SUMMARY:Kreisversammlung im Mai – Urabstimmung
URL;VALUE=URI:https://gruene-ml.de/termin/kreisversammlung-im-mai-urabstimmung/
DESCRIPTION:Thema: Urabstimmung
Details folgen in Kürze
UID:20260506T193000-20260506T193000-20260506T213000
END:VEVENT
END:VCALENDAR