BEGIN:VCALENDAR
VERSION:2.0
PRODID:-//urwahl3000//gruene-ml.de//DE
CALSCALE:GREGORIAN
BEGIN:VEVENT
DTSTART:20260130T190000
DTEND:20260130T230000
LOCATION:Bürgerzentrum\, Theodor-Heuss-Straße 29 Oberschleißheim
DTSTAMP:20260130T190000
SUMMARY:Livekonzert & Listenvorstellung Oberschleißheim mit Marion Seitz
URL;VALUE=URI:https://gruene-ml.de/termin/livekonzert-mit-listenvorstellung-in-oberschleissheim-mit-marion/
DESCRIPTION:<div class="entry-content accordion">

Am 30. Januar 2026 laden die Grünen Oberschleißheim herzlich zu einem besonderen Abend ins Bürgerhaus Oberschleißheim ein. Im großen Saal erwartet die Besucher*innen ab <strong>19 Uhr ein Livekonzert von Otto Göttlers DIATONIkS</strong>.

In entspannter Atmosphäre stellen wir außerdem die Grüne Gemeinderatsliste vor und geben Einblicke in unsere Ideen für Oberschleißheim. <strong>Der Eintritt ist frei!</strong>

Otto Göttlers <a href="https://diatoniks.de/">DIATONIkS</a> stehen für bayerische Volksmusik mit Witz, Tiefgang und überraschenden Wendungen. Rund um den renommierten Musiker Otto Göttler verbindet die Band traditionelle Klänge mit modernen Einflüssen, virtuosem Spiel und viel Spielfreude. Ihre Musik ist handgemacht, lebendig und immer auch politisch-kulturell geprägt – ein Hörerlebnis, das zum Nachdenken ebenso einlädt wie zum Genießen.

Wir freuen uns auf einen musikalischen und politischen Abend mit Ihnen und mit Landratskandidatin Marion Seitz!

</div>
UID:20260130T190000-20260130T190000-20260130T230000
END:VEVENT
END:VCALENDAR