BEGIN:VCALENDAR
VERSION:2.0
PRODID:-//urwahl3000//gruene-ml.de//DE
CALSCALE:GREGORIAN
BEGIN:VEVENT
DTSTART:20230129T100000
DTEND:20230129T120000
LOCATION: Höhenkirchen-Siegertsbrunn
DTSTAMP:20230129T100000
SUMMARY:Neujahrsempfang 2023 des Ortsverbandes Höhenkirchen-Siegertsbrunn u.a. mit Katha Schulze
URL;VALUE=URI:https://gruene-ml.de/termin/neujahrsempfang-2023-des-ortsverbandes-hoehenkirchen-siegertsbrunn-u-a-mit-katha-schulze/
DESCRIPTION:Der Ortsverband Höhenkirchen-Siegertsbrunn lädt zum Neujahrsempfang 2023 ein. Als Gäste kommen vor der Landtagswahl Katharina Schulze und die beide Kandidierenden aus dem Landkreis, Claudia Köhler und Dr. Markus Bühler. Für die musikalische Untermalung sorgen die “Höhenkirchner Veeh-Harmoniker”. Fingerfood und Getränke werden gereicht.

Weitere Informationen <a href="https://gruene-hksbr.de/termin/neujahrsempfang2023/">hier</a> und Anmeldung bitte an: Neujahrsempfang [at] gruene-hksbr [dot] de
UID:20230129T100000-20230129T100000-20230129T120000
END:VEVENT
END:VCALENDAR