BEGIN:VCALENDAR
VERSION:2.0
PRODID:-//urwahl3000//gruene-ml.de//DE
CALSCALE:GREGORIAN
BEGIN:VEVENT
DTSTART:20181001T190000
DTEND:20181001T190000
LOCATION:Bürgerhaus Unterschleißheim
DTSTAMP:20181001T190000
SUMMARY:Podiumsdiskussion der VHS Unterschleißheim mit Claudia Köhler
URL;VALUE=URI:https://gruene-ml.de/termin/podiumsdiskussion-der-vhs-unterschleissheim-mit-claudia-koehler/
DESCRIPTION:Die Landtagswahl ist ein herausragendes Ereignis für die Politik Bayerns. Für die meisten Bürger*innen sind die Wahlen die wichtigste Form der direkten Beteiligung an der Demokratie. Die VHS Unterschleißheim organisiert daher in Kooperation mit der Süddeutschen Zeitung und dem Münchner Merkur eine öffentliche Informationsveranstaltung, bei der einem großen Publikum die Chance gegeben wird, die Kandidierenden und deren Positionen im Stimmkreis München-Land Nord kennen zu lernen.

Für uns ist unsere Stimmkreiskandidatin Claudia Köhler vor Ort und beantwortet dort Fragen.
UID:20181001T190000-20181001T190000-20181001T190000
END:VEVENT
END:VCALENDAR