BEGIN:VCALENDAR
VERSION:2.0
PRODID:-//urwahl3000//gruene-ml.de//DE
CALSCALE:GREGORIAN
BEGIN:VEVENT
DTSTART:20180915T170000
DTEND:20180915T170000
LOCATION:OS/BOS Unterschleißheim\, Südliche Ingolstädter Str. 1 Unterschleißheim
DTSTAMP:20180915T170000
SUMMARY:Podiumsdiskussion des Jugendparlaments mit Claudia Köhler
URL;VALUE=URI:https://gruene-ml.de/termin/podiumsdiskussion-des-jugendparlaments-mit-claudia-koehler/
DESCRIPTION:Am 15.09.2018 veranstaltet die FOS/BOS Unterschleißheim eine Podiumsdiskussion junger Wähler*innen zur Landtagswahl.

Diskutiet werden dabei Themen, die insbesondere jungen Wähler*innen am Herzen liegen: Unter anderem stehen Wohnungsnot, alternative Schularten und die Politisierung von Jugendlichen auf dem Programm.

Für die GRÜNEN diskutiert Claudia Köhler, Direktkandidatin in München-Land Nord, mit.
UID:20180915T170000-20180915T170000-20180915T170000
END:VEVENT
END:VCALENDAR