BEGIN:VCALENDAR
VERSION:2.0
PRODID:-//urwahl3000//gruene-ml.de//DE
CALSCALE:GREGORIAN
BEGIN:VEVENT
DTSTART:20210804T190000
DTEND:20210804T190000
LOCATION:Bürgerhaus Straßlach\, Schulstraße 27 Straßlach-Dingharting
DTSTAMP:20210804T190000
SUMMARY:So geht #Fahrradland: Podiumsdiskussion mit Karl Bär
URL;VALUE=URI:https://gruene-ml.de/termin/radverkehr-und-verkehrswende-podiumsdiskussion-mit-bundestagskandidat-karl-baer/
DESCRIPTION:Der ADFC München lädt ein zur hybrid stattfindenden Podiumsdiskussion "So geht #Fahrradland" zur Bundestagswahl im Landkreis. Der Veranstaltung kann sowohl in Präsenz im Straßlacher Bürgerhaus als auch online gefolgt werden.

Die Position der GRÜNEN wird der bayerische Bundestagskandidat <a href="https://www.facebook.com/KarlBaerBundestag/">Karl Bär</a> aus Holzkirchen auf dem Podium vertreten.

<span class="button"><a href="https://www.adfc-muenchen.de/aktuelles/adfc/ansicht/podiumsdiskussion-im-landkreis-zur-rad-verkehrspolitik-so-geht-fahrradland/">Weitere Informationen</a></span>

<span class="button"><a href="https://dudel.adfc-muenchen.de/Platzreservierung">Platzreservierung (Präsenz)</a></span>

<span class="button"><a href="https://www.adfc-muenchen.de/aktuelles/adfc/ansicht/podiumsdiskussion-im-landkreis-zur-rad-verkehrspolitik-so-geht-fahrradland/">Link zur Veranstaltung (Online)</a></span>

 
UID:20210804T190000-20210804T190000-20210804T190000
END:VEVENT
END:VCALENDAR