BEGIN:VCALENDAR
VERSION:2.0
PRODID:-//urwahl3000//gruene-ml.de//DE
CALSCALE:GREGORIAN
BEGIN:VEVENT
DTSTART:20180908T130000
DTEND:20180909T180000
LOCATION:Ludwigstraße München
DTSTAMP:20180908T130000
SUMMARY:Streetlife und Corso Leopold
URL;VALUE=URI:https://gruene-ml.de/termin/streetlife-und-corso-leopold/
DESCRIPTION:<div class="row">Am 8. und 9.92018 verwandelt sich die Leopoldstaße in München in ein autofreies Straßenfest. Mit dabei sind auch die GRÜNEN mit einem Stand auf der Höhe der Gieselastraße.</div>
<div>Unsere Landtagskandidatin Claudia Köhler wird am Samstag von 17.30 bis 19.00 Uhr und am Sonntag von 13 bis 17 Uhr mit am Stand dabei sein.</div>
UID:20180908T130000-20180908T130000-20180909T180000
END:VEVENT
END:VCALENDAR