BEGIN:VCALENDAR
VERSION:2.0
PRODID:-//urwahl3000//gruene-ml.de//DE
CALSCALE:GREGORIAN
BEGIN:VEVENT
DTSTART:20160430T130000
DTEND:20160430T130000
LOCATION: München
DTSTAMP:20160430T130000
SUMMARY:Verkehrskongress
URL;VALUE=URI:https://gruene-ml.de/termin/verkehrskongress/
DESCRIPTION:<h4>Verkehrskongress der Region 14</h4>
Der öffentliche Verkehr und die Straßen im Ballungsraum München haben die Kapazitätsgrenze längst erreicht. Die Bevölkerungszahl steigt schnell. Wie können wir nötige Infrastruktur schaffen und gleichzeitig Lebensqualität sichern? Was ist auf Bundes-, Landes- und kommunaler Ebene zu tun? Referenten von allen politischen Ebenen sowie verkehrspolitischen Organisationen zeigen in Vorträgen und zwei Fachforen Wege zu einer Mobilität von Morgen. Komm mit, mach mit, diskutiere mit!<br class="" /><br class="" />Mit:<br class="" />Dr. Anton Hofreiter MdB<br class="" />Markus Ganserer MdL<br class="" />Paul Bickelbacher, Stadtrat<br class="" />Christian Fillies, AGFK<br class="" />Bernadette Felsch, ADFC<br class="" />Marianne Pfaffinger, Green City Projekt
UID:20160430T130000-20160430T130000-20160430T130000
END:VEVENT
END:VCALENDAR